Package: CoverageView Version: 1.46.0 Command: /Library/Frameworks/R.framework/Resources/bin/R CMD INSTALL CoverageView StartedAt: 2025-04-21 15:16:24 -0400 (Mon, 21 Apr 2025) EndedAt: 2025-04-21 15:16:38 -0400 (Mon, 21 Apr 2025) EllapsedTime: 14.1 seconds RetCode: 0 Status: OK