Package: Cormotif Version: 1.54.0 Command: /home/biocbuild/R/R/bin/R CMD check --install=check:Cormotif.install-out.txt --library=/home/biocbuild/R/R/site-library --no-vignettes --timings Cormotif_1.54.0.tar.gz StartedAt: 2025-04-22 07:40:19 -0000 (Tue, 22 Apr 2025) EndedAt: 2025-04-22 07:41:02 -0000 (Tue, 22 Apr 2025) EllapsedTime: 43.0 seconds RetCode: 0 Status: OK CheckDir: Cormotif.Rcheck Warnings: 0