Package: Cormotif Version: 1.54.0 Command: /Library/Frameworks/R.framework/Resources/bin/R CMD check --install=check:Cormotif.install-out.txt --library=/Library/Frameworks/R.framework/Resources/library --no-vignettes --timings Cormotif_1.54.0.tar.gz StartedAt: 2025-04-21 18:48:00 -0400 (Mon, 21 Apr 2025) EndedAt: 2025-04-21 18:48:17 -0400 (Mon, 21 Apr 2025) EllapsedTime: 17.2 seconds RetCode: 0 Status: OK CheckDir: Cormotif.Rcheck Warnings: 0