Package: Cormotif Version: 1.52.0 Command: /Library/Frameworks/R.framework/Resources/bin/R CMD INSTALL Cormotif StartedAt: 2025-01-30 15:13:29 -0500 (Thu, 30 Jan 2025) EndedAt: 2025-01-30 15:13:34 -0500 (Thu, 30 Jan 2025) EllapsedTime: 5.4 seconds RetCode: 0 Status: OK