Package: Cormotif Version: 1.52.0 Command: /Library/Frameworks/R.framework/Resources/bin/R CMD check --install=check:Cormotif.install-out.txt --library=/Library/Frameworks/R.framework/Resources/library --no-vignettes --timings Cormotif_1.52.0.tar.gz StartedAt: 2025-01-31 15:31:27 -0500 (Fri, 31 Jan 2025) EndedAt: 2025-01-31 15:32:15 -0500 (Fri, 31 Jan 2025) EllapsedTime: 47.9 seconds RetCode: 0 Status: OK CheckDir: Cormotif.Rcheck Warnings: 0