Package: CopyNumberPlots Version: 1.22.0 Command: /home/biocbuild/R/R/bin/R CMD check --install=check:CopyNumberPlots.install-out.txt --library=/home/biocbuild/R/R/site-library --no-vignettes --timings CopyNumberPlots_1.22.0.tar.gz StartedAt: 2025-01-31 05:10:44 -0000 (Fri, 31 Jan 2025) EndedAt: 2025-01-31 05:17:11 -0000 (Fri, 31 Jan 2025) EllapsedTime: 386.3 seconds RetCode: 0 Status: OK CheckDir: CopyNumberPlots.Rcheck Warnings: 0