Package: CopyNumberPlots Version: 1.24.0 Command: /Library/Frameworks/R.framework/Resources/bin/R CMD INSTALL CopyNumberPlots StartedAt: 2025-05-19 16:17:46 -0400 (Mon, 19 May 2025) EndedAt: 2025-05-19 16:19:21 -0400 (Mon, 19 May 2025) EllapsedTime: 95.2 seconds RetCode: 0 Status: OK