Package: CopyNumberPlots Version: 1.24.0 Command: /Library/Frameworks/R.framework/Resources/bin/R CMD build --keep-empty-dirs --no-resave-data CopyNumberPlots StartedAt: 2025-05-19 18:01:17 -0400 (Mon, 19 May 2025) EndedAt: 2025-05-19 18:03:44 -0400 (Mon, 19 May 2025) EllapsedTime: 147.7 seconds RetCode: 1 Status: ERROR PackageFile: None PackageFileSize: NA