Package: ConsensusClusterPlus Version: 1.70.0 Command: /home/biocbuild/R/R/bin/R CMD INSTALL ConsensusClusterPlus StartedAt: 2025-01-30 20:09:42 -0000 (Thu, 30 Jan 2025) EndedAt: 2025-01-30 20:10:12 -0000 (Thu, 30 Jan 2025) EllapsedTime: 30.4 seconds RetCode: 0 Status: OK