Package: ConsensusClusterPlus Version: 1.70.0 Command: /Library/Frameworks/R.framework/Resources/bin/R CMD INSTALL ConsensusClusterPlus StartedAt: 2025-01-02 15:11:24 -0500 (Thu, 02 Jan 2025) EndedAt: 2025-01-02 15:11:29 -0500 (Thu, 02 Jan 2025) EllapsedTime: 4.5 seconds RetCode: 0 Status: OK