Package: CompoundDb Version: 1.12.1 Command: /home/biocbuild/bbs-3.21-bioc/R/bin/R CMD INSTALL CompoundDb StartedAt: 2025-10-05 15:34:02 -0400 (Sun, 05 Oct 2025) EndedAt: 2025-10-05 15:34:23 -0400 (Sun, 05 Oct 2025) EllapsedTime: 20.9 seconds RetCode: 0 Status: OK