Package: CompoundDb Version: 1.12.1 Command: /home/biocbuild/bbs-3.21-bioc/R/bin/R CMD build --keep-empty-dirs --no-resave-data CompoundDb StartedAt: 2025-10-05 16:53:17 -0400 (Sun, 05 Oct 2025) EndedAt: 2025-10-05 16:53:53 -0400 (Sun, 05 Oct 2025) EllapsedTime: 36.1 seconds RetCode: 0 Status: OK PackageFile: CompoundDb_1.12.1.tar.gz PackageFileSize: 1.303 MiB