Package: CompoundDb Version: 1.12.0 Command: rm -rf CompoundDb.buildbin-libdir && mkdir CompoundDb.buildbin-libdir && /Users/biocbuild/BBS/utils/build-universal.sh CompoundDb_1.12.0.tar.gz /Library/Frameworks/R.framework/Resources/bin/R CompoundDb.buildbin-libdir StartedAt: 2025-05-13 12:41:38 -0400 (Tue, 13 May 2025) EndedAt: 2025-05-13 12:42:28 -0400 (Tue, 13 May 2025) EllapsedTime: 50.1 seconds RetCode: 0 Status: OK PackageFile: CompoundDb_1.12.0.tgz PackageFileSize: 1.448 MiB