Package: CompoundDb Version: 1.12.1 Command: /home/biocbuild/R/R/bin/R CMD INSTALL CompoundDb StartedAt: 2025-07-22 03:18:11 -0000 (Tue, 22 Jul 2025) EndedAt: 2025-07-22 03:18:41 -0000 (Tue, 22 Jul 2025) EllapsedTime: 29.3 seconds RetCode: 0 Status: OK