Package: ComplexHeatmap Version: 2.24.1 Command: rm -rf ComplexHeatmap.buildbin-libdir && mkdir ComplexHeatmap.buildbin-libdir && E:\biocbuild\bbs-3.21-bioc\R\bin\R.exe CMD INSTALL --build --library=ComplexHeatmap.buildbin-libdir ComplexHeatmap_2.24.1.tar.gz StartedAt: 2025-08-15 09:02:26 -0400 (Fri, 15 Aug 2025) EndedAt: 2025-08-15 09:10:31 -0400 (Fri, 15 Aug 2025) EllapsedTime: 485.5 seconds RetCode: 0 Status: OK PackageFile: ComplexHeatmap_2.24.1.zip PackageFileSize: 2.991 MiB