Package: ComPrAn Version: 1.16.0 Command: /Library/Frameworks/R.framework/Resources/bin/R CMD check --install=check:ComPrAn.install-out.txt --library=/Library/Frameworks/R.framework/Resources/library --no-vignettes --timings ComPrAn_1.16.0.tar.gz StartedAt: 2025-05-06 01:32:22 -0400 (Tue, 06 May 2025) EndedAt: 2025-05-06 01:34:33 -0400 (Tue, 06 May 2025) EllapsedTime: 130.7 seconds RetCode: 0 Status: OK CheckDir: ComPrAn.Rcheck Warnings: 0