Package: Cogito Version: 1.14.0 Command: /Library/Frameworks/R.framework/Resources/bin/R CMD build --keep-empty-dirs --no-resave-data Cogito StartedAt: 2025-05-05 17:56:45 -0400 (Mon, 05 May 2025) EndedAt: 2025-05-05 17:59:15 -0400 (Mon, 05 May 2025) EllapsedTime: 149.3 seconds RetCode: 0 Status: OK PackageFile: Cogito_1.14.0.tar.gz PackageFileSize: 868.9 KiB