Package: Cogito Version: 1.14.0 Command: /Library/Frameworks/R.framework/Resources/bin/R CMD build --keep-empty-dirs --no-resave-data Cogito StartedAt: 2025-04-21 16:21:29 -0400 (Mon, 21 Apr 2025) EndedAt: 2025-04-21 16:22:44 -0400 (Mon, 21 Apr 2025) EllapsedTime: 75.2 seconds RetCode: 0 Status: OK PackageFile: Cogito_1.14.0.tar.gz PackageFileSize: 868.9 KiB