Package: CoGAPS Version: 3.26.0 Command: /home/biocbuild/R/R/bin/R CMD INSTALL CoGAPS StartedAt: 2025-01-30 20:53:23 -0000 (Thu, 30 Jan 2025) EndedAt: 2025-01-30 20:55:45 -0000 (Thu, 30 Jan 2025) EllapsedTime: 142.2 seconds RetCode: 0 Status: OK