Package: CoGAPS Version: 3.28.0 Maintainer: Elana J. Fertig MaintainerEmail: ejfertig at jhmi.edu git_url: https://git.bioconductor.org/packages/CoGAPS git_branch: RELEASE_3_21 git_last_commit: 0a5f395 git_last_commit_date: 2025-04-15 10:00:07 -0400 (Tue, 15 Apr 2025)