Package: ClusterJudge Version: 1.28.0 Command: /home/biocbuild/R/R/bin/R CMD check --install=check:ClusterJudge.install-out.txt --library=/home/biocbuild/R/R/site-library --no-vignettes --timings ClusterJudge_1.28.0.tar.gz StartedAt: 2025-01-31 04:59:50 -0000 (Fri, 31 Jan 2025) EndedAt: 2025-01-31 05:02:52 -0000 (Fri, 31 Jan 2025) EllapsedTime: 181.1 seconds RetCode: 1 Status: ERROR CheckDir: ClusterJudge.Rcheck Warnings: NA