Package: ClustAll Version: 1.4.0 Command: /Library/Frameworks/R.framework/Resources/bin/R CMD build --keep-empty-dirs --no-resave-data ClustAll StartedAt: 2025-04-21 16:19:26 -0400 (Mon, 21 Apr 2025) EndedAt: 2025-04-21 16:24:03 -0400 (Mon, 21 Apr 2025) EllapsedTime: 276.1 seconds RetCode: 0 Status: OK PackageFile: ClustAll_1.4.0.tar.gz PackageFileSize: 2.944 MiB