Package: ClustAll Version: 1.4.0 Command: /home/biocbuild/R/R/bin/R CMD INSTALL ClustAll StartedAt: 2025-05-08 20:32:51 -0000 (Thu, 08 May 2025) EndedAt: 2025-05-08 20:33:23 -0000 (Thu, 08 May 2025) EllapsedTime: 31.8 seconds RetCode: 0 Status: OK