Package: ClustAll Version: 1.4.0 Command: /Library/Frameworks/R.framework/Resources/bin/R CMD INSTALL ClustAll StartedAt: 2025-05-08 18:28:41 -0400 (Thu, 08 May 2025) EndedAt: 2025-05-08 18:29:08 -0400 (Thu, 08 May 2025) EllapsedTime: 26.5 seconds RetCode: 0 Status: OK