Package: ClustAll Version: 1.4.0 Command: rm -rf ClustAll.buildbin-libdir && mkdir ClustAll.buildbin-libdir && /Users/biocbuild/BBS/utils/build-universal.sh ClustAll_1.4.0.tar.gz /Library/Frameworks/R.framework/Resources/bin/R ClustAll.buildbin-libdir StartedAt: 2025-05-14 14:26:19 -0400 (Wed, 14 May 2025) EndedAt: 2025-05-14 14:26:49 -0400 (Wed, 14 May 2025) EllapsedTime: 29.9 seconds RetCode: 0 Status: OK PackageFile: ClustAll_1.4.0.tgz PackageFileSize: 2.284 MiB