Package: CluMSID Version: 1.24.0 Maintainer: Tobias Depke MaintainerEmail: depke at mailbox.org git_url: https://git.bioconductor.org/packages/CluMSID git_branch: RELEASE_3_21 git_last_commit: 4ebdb54 git_last_commit_date: 2025-04-15 11:40:07 -0400 (Tue, 15 Apr 2025)