Package: CleanUpRNAseq Version: 1.2.0 Command: /home/biocbuild/R/R/bin/R CMD INSTALL CleanUpRNAseq StartedAt: 2025-05-15 21:19:13 -0000 (Thu, 15 May 2025) EndedAt: 2025-05-15 21:20:14 -0000 (Thu, 15 May 2025) EllapsedTime: 61.1 seconds RetCode: 0 Status: OK