Package: CleanUpRNAseq Version: 1.2.0 Command: /Library/Frameworks/R.framework/Resources/bin/R CMD INSTALL CleanUpRNAseq StartedAt: 2025-05-19 18:28:48 -0400 (Mon, 19 May 2025) EndedAt: 2025-05-19 18:29:40 -0400 (Mon, 19 May 2025) EllapsedTime: 52.0 seconds RetCode: 0 Status: OK