Package: ClassifyR Version: 3.14.0 Command: /home/biocbuild/R/R/bin/R CMD build --keep-empty-dirs --no-resave-data ClassifyR StartedAt: 2025-11-21 01:13:17 -0000 (Fri, 21 Nov 2025) EndedAt: 2025-11-21 01:16:11 -0000 (Fri, 21 Nov 2025) EllapsedTime: 174.0 seconds RetCode: 0 Status: OK PackageFile: ClassifyR_3.14.0.tar.gz PackageFileSize: 2.076 MiB