Package: CircSeqAlignTk Version: 1.8.0 Command: F:\biocbuild\bbs-3.20-bioc\R\bin\R.exe CMD check --no-multiarch --install=check:CircSeqAlignTk.install-out.txt --library=F:\biocbuild\bbs-3.20-bioc\R\library --no-vignettes --timings CircSeqAlignTk_1.8.0.tar.gz StartedAt: 2025-01-31 00:31:20 -0500 (Fri, 31 Jan 2025) EndedAt: 2025-01-31 00:37:34 -0500 (Fri, 31 Jan 2025) EllapsedTime: 373.7 seconds RetCode: 1 Status: ERROR CheckDir: CircSeqAlignTk.Rcheck Warnings: NA