Package: Chromatograms Version: 1.0.0 Command: /home/biocbuild/bbs-3.22-bioc/R/bin/R CMD INSTALL Chromatograms StartedAt: 2025-11-05 15:22:20 -0500 (Wed, 05 Nov 2025) EndedAt: 2025-11-05 15:22:32 -0500 (Wed, 05 Nov 2025) EllapsedTime: 12.2 seconds RetCode: 0 Status: OK