Package: Chromatograms Version: 1.0.0 Command: /home/biocbuild/bbs-3.22-bioc/R/bin/R CMD build --keep-empty-dirs --no-resave-data --md5 Chromatograms StartedAt: 2025-11-05 16:58:07 -0500 (Wed, 05 Nov 2025) EndedAt: 2025-11-05 16:58:41 -0500 (Wed, 05 Nov 2025) EllapsedTime: 34.0 seconds RetCode: 0 Status: OK PackageFile: Chromatograms_1.0.0.tar.gz PackageFileSize: 960.5 KiB