Package: ChromHeatMap Version: 1.62.0 Command: /home/biocbuild/bbs-3.21-bioc/R/bin/R CMD INSTALL ChromHeatMap StartedAt: 2025-10-15 15:27:04 -0400 (Wed, 15 Oct 2025) EndedAt: 2025-10-15 15:27:38 -0400 (Wed, 15 Oct 2025) EllapsedTime: 34.7 seconds RetCode: 0 Status: OK