Package: ChromHeatMap Version: 1.62.0 Command: /home/biocbuild/bbs-3.21-bioc/R/bin/R CMD build --keep-empty-dirs --no-resave-data ChromHeatMap StartedAt: 2025-10-15 16:44:36 -0400 (Wed, 15 Oct 2025) EndedAt: 2025-10-15 16:45:25 -0400 (Wed, 15 Oct 2025) EllapsedTime: 49.0 seconds RetCode: 0 Status: OK PackageFile: ChromHeatMap_1.62.0.tar.gz PackageFileSize: 318.3 KiB