Package: Chicago Version: 1.36.0 Maintainer: Mikhail Spivakov MaintainerEmail: mikhail.spivakov at lms.mrc.ac.uk git_url: https://git.bioconductor.org/packages/Chicago git_branch: RELEASE_3_21 git_last_commit: ad00daa git_last_commit_date: 2025-04-15 10:56:37 -0400 (Tue, 15 Apr 2025)