Package: ChemmineR Version: 3.58.0 Command: /home/biocbuild/bbs-3.20-bioc/R/bin/R CMD check --install=check:ChemmineR.install-out.txt --library=/home/biocbuild/bbs-3.20-bioc/R/site-library --timings ChemmineR_3.58.0.tar.gz StartedAt: 2024-11-20 00:12:16 -0500 (Wed, 20 Nov 2024) EndedAt: 2024-11-20 00:14:41 -0500 (Wed, 20 Nov 2024) EllapsedTime: 145.1 seconds RetCode: 0 Status: WARNINGS CheckDir: ChemmineR.Rcheck Warnings: 2