Package: ChemmineR Version: 3.58.0 Command: /home/biocbuild/bbs-3.20-bioc/R/bin/R CMD build --keep-empty-dirs --no-resave-data ChemmineR StartedAt: 2024-11-19 18:00:19 -0500 (Tue, 19 Nov 2024) EndedAt: 2024-11-19 18:01:06 -0500 (Tue, 19 Nov 2024) EllapsedTime: 47.3 seconds RetCode: 0 Status: OK PackageFile: ChemmineR_3.58.0.tar.gz PackageFileSize: 2.099 MiB