Package: ChemmineR Version: 3.58.0 Command: /home/biocbuild/R/R/bin/R CMD INSTALL ChemmineR StartedAt: 2025-01-30 21:01:01 -0000 (Thu, 30 Jan 2025) EndedAt: 2025-01-30 21:01:35 -0000 (Thu, 30 Jan 2025) EllapsedTime: 34.6 seconds RetCode: 0 Status: OK