Package: ChemmineOB Version: 1.44.0 Command: /home/biocbuild/R/R/bin/R CMD INSTALL ChemmineOB StartedAt: 2025-01-30 20:07:47 -0000 (Thu, 30 Jan 2025) EndedAt: 2025-01-30 20:08:25 -0000 (Thu, 30 Jan 2025) EllapsedTime: 38.2 seconds RetCode: 1 Status: ERROR