Package: ChemmineOB Version: 1.46.0 Command: /Library/Frameworks/R.framework/Resources/bin/R CMD check --install=check:ChemmineOB.install-out.txt --library=/Library/Frameworks/R.framework/Resources/library --no-vignettes --timings ChemmineOB_1.46.0.tar.gz StartedAt: 2025-04-21 19:40:57 -0400 (Mon, 21 Apr 2025) EndedAt: 2025-04-21 19:42:49 -0400 (Mon, 21 Apr 2025) EllapsedTime: 112.2 seconds RetCode: 0 Status: WARNINGS CheckDir: ChemmineOB.Rcheck Warnings: 2