Package: ChemmineOB Version: 1.46.0 Command: rm -rf ChemmineOB.buildbin-libdir && mkdir ChemmineOB.buildbin-libdir && /Users/biocbuild/BBS/utils/build-universal.sh ChemmineOB_1.46.0.tar.gz /Library/Frameworks/R.framework/Resources/bin/R ChemmineOB.buildbin-libdir StartedAt: 2025-04-22 00:37:44 -0400 (Tue, 22 Apr 2025) EndedAt: 2025-04-22 00:40:15 -0400 (Tue, 22 Apr 2025) EllapsedTime: 150.9 seconds RetCode: 0 Status: OK PackageFile: ChemmineOB_1.46.0.tgz PackageFileSize: 5.242 MiB