Package: ChIPseeker Version: 1.42.1 Command: /home/biocbuild/R/R/bin/R CMD INSTALL ChIPseeker StartedAt: 2025-01-30 20:50:47 -0000 (Thu, 30 Jan 2025) EndedAt: 2025-01-30 20:51:45 -0000 (Thu, 30 Jan 2025) EllapsedTime: 58.7 seconds RetCode: 0 Status: OK