Package: ChIPpeakAnno Version: 3.42.0 Command: E:\biocbuild\bbs-3.21-bioc\R\bin\R.exe CMD INSTALL ChIPpeakAnno StartedAt: 2025-08-14 16:47:47 -0400 (Thu, 14 Aug 2025) EndedAt: 2025-08-14 16:50:46 -0400 (Thu, 14 Aug 2025) EllapsedTime: 178.9 seconds RetCode: 0 Status: OK