Package: ChIPpeakAnno Version: 3.42.0 Command: /home/biocbuild/bbs-3.21-bioc/R/bin/R CMD build --keep-empty-dirs --no-resave-data ChIPpeakAnno StartedAt: 2025-10-08 16:44:06 -0400 (Wed, 08 Oct 2025) EndedAt: 2025-10-08 17:00:13 -0400 (Wed, 08 Oct 2025) EllapsedTime: 966.9 seconds RetCode: 0 Status: OK PackageFile: ChIPpeakAnno_3.42.0.tar.gz PackageFileSize: 21.49 MiB