Package: ChIPpeakAnno Version: 3.42.0 Command: /home/biocbuild/R/R/bin/R CMD build --keep-empty-dirs --no-resave-data ChIPpeakAnno StartedAt: 2025-09-29 23:34:03 -0000 (Mon, 29 Sep 2025) EndedAt: 2025-09-29 23:57:05 -0000 (Mon, 29 Sep 2025) EllapsedTime: 1381.7 seconds RetCode: 0 Status: OK PackageFile: ChIPpeakAnno_3.42.0.tar.gz PackageFileSize: 21.09 MiB