Package: ChIPexoQual Version: 1.30.0 Command: /home/biocbuild/bbs-3.20-bioc/R/bin/R CMD INSTALL ChIPexoQual StartedAt: 2025-01-30 15:33:37 -0500 (Thu, 30 Jan 2025) EndedAt: 2025-01-30 15:34:26 -0500 (Thu, 30 Jan 2025) EllapsedTime: 48.7 seconds RetCode: 0 Status: OK