Package: ChIPexoQual Version: 1.32.0 Command: /Library/Frameworks/R.framework/Resources/bin/R CMD build --keep-empty-dirs --no-resave-data ChIPexoQual StartedAt: 2025-04-21 16:16:32 -0400 (Mon, 21 Apr 2025) EndedAt: 2025-04-21 16:19:17 -0400 (Mon, 21 Apr 2025) EllapsedTime: 165.3 seconds RetCode: 0 Status: OK PackageFile: ChIPexoQual_1.32.0.tar.gz PackageFileSize: 2.458 MiB