Package: ChIPexoQual Version: 1.32.0 Command: /home/biocbuild/R/R/bin/R CMD INSTALL ChIPexoQual StartedAt: 2025-05-12 20:56:58 -0000 (Mon, 12 May 2025) EndedAt: 2025-05-12 20:57:57 -0000 (Mon, 12 May 2025) EllapsedTime: 59.3 seconds RetCode: 0 Status: OK