Package: ChIPanalyser Version: 1.30.0 Command: /home/biocbuild/R/R/bin/R CMD INSTALL ChIPanalyser StartedAt: 2025-05-15 20:43:38 -0000 (Thu, 15 May 2025) EndedAt: 2025-05-15 20:44:30 -0000 (Thu, 15 May 2025) EllapsedTime: 52.7 seconds RetCode: 0 Status: OK