Package: ChIPanalyser Version: 1.30.0 Command: /home/biocbuild/R/R/bin/R CMD build --keep-empty-dirs --no-resave-data ChIPanalyser StartedAt: 2025-05-15 23:29:09 -0000 (Thu, 15 May 2025) EndedAt: 2025-05-15 23:48:49 -0000 (Thu, 15 May 2025) EllapsedTime: 1180.2 seconds RetCode: 0 Status: OK PackageFile: ChIPanalyser_1.30.0.tar.gz PackageFileSize: 1007 KiB